BEGIN:VCALENDAR
PRODID:-//dvv-bw.de//dvv.Portalplattform//DE
VERSION:2.0
METHOD:PUBLISH
BEGIN:VEVENT
DTSTART:20241002T170000Z
DTEND:20241002T190000Z
DTSTAMP:20241002T170000Z
UID:7526324-7530150-1727820000000
SUMMARY:KINO-Special zur Langen Nacht der Demokratie
LOCATION:Neuenburg am Rhein
DESCRIPTION:Mit anschließendem "Get together" bei kleiner Bewirtung.\nEintritt frei.\nFSK: 12 Jahre\nDer Zugang zum Kino ist nicht barrierefrei.
CLASS:PUBLIC
X-ALT-DESC;FMTTYPE=text/html:Mit anschließendem "Get together" bei kleiner Bewirtung.<br>Eintritt frei.<br>FSK: 12 Jahre<br>Der Zugang zum Kino ist nicht barrierefrei.
END:VEVENT
BEGIN:VEVENT
DTSTART:20241003T090000Z
DTEND:20241003T160000Z
DTSTAMP:20241003T090000Z
UID:5480758-4435186-1727906400000
SUMMARY:Kartoffelmarkt mit Stadtflohmarkt und verkaufsoffener Feiertag
DESCRIPTION:Von 11:00 bis 18:00 Uhr findet der Neuenburger Kartoffelmarkts auf und rund um den Rathausplatz statt. Hinzu kommt ein weitläufiger Stadtflohmarkt in der Innenstadt. Die Einzelhändler des Gewerbevereins haben sich zum verkaufsoffenen Feiertag ebenfalls einiges einfallen lassen und erwarten von 12:00 bis 17:00 Uhr die Besucher nicht nur mit tollen Schnäppchenangeboten.Weitere Informationen zum Kartoffelmarkt bei:Sabine MarceauVeranstaltungsmanagement Tel. +49 (0)7631 - 791 286 veranstaltungen@neuenburg.de\nWeitere Informationen zum Stadtflohmarkt bei: Marktveranstaltung Andreas HempelTel. 07631-749542\nWeitere Informationen zum verkaufsoffenen Feiertag bei: Thomas SenfGewerbevereinTel. 07631-73766
CLASS:PUBLIC
X-ALT-DESC;FMTTYPE=text/html:Von 11:00 bis 18:00 Uhr findet der Neuenburger Kartoffelmarkts auf und rund um den Rathausplatz statt. Hinzu kommt ein weitläufiger Stadtflohmarkt in der Innenstadt. Die Einzelhändler des Gewerbevereins haben sich zum verkaufsoffenen Feiertag ebenfalls einiges einfallen lassen und erwarten von 12:00 bis 17:00 Uhr die Besucher nicht nur mit tollen Schnäppchenangeboten.Weitere Informationen zum Kartoffelmarkt bei:Sabine MarceauVeranstaltungsmanagement Tel. +49 (0)7631 - 791 286 veranstaltungen@neuenburg.de<br>Weitere Informationen zum Stadtflohmarkt bei: Marktveranstaltung Andreas HempelTel. 07631-749542<br>Weitere Informationen zum verkaufsoffenen Feiertag bei: Thomas SenfGewerbevereinTel. 07631-73766
END:VEVENT
BEGIN:VEVENT
DTSTART:20241005T170000Z
DTEND:20241006T090000Z
DTSTAMP:20241005T170000Z
RRULE;FREQ=DAILY;UNTIL=20241006T215959Z
UID:7541924-7541821-1728079200000
SUMMARY:Oktoberfest SC Zienken
DESCRIPTION:Feiert mit uns zusammen am Samstag zusammen mit Fashion - Einlass ab 19 Uhr! Sonntag dann zünftig zusammen mit der Orchestergemeinschaft Neuenburg/Zienken und der Chorgemeinschaft Zienken ab 11 Uhr. Für passende Verpflegung ist durchgehend bestens gesorgt!
CLASS:PUBLIC
X-ALT-DESC;FMTTYPE=text/html:Feiert mit uns zusammen am Samstag zusammen mit Fashion - Einlass ab 19 Uhr! Sonntag dann zünftig zusammen mit der Orchestergemeinschaft Neuenburg/Zienken und der Chorgemeinschaft Zienken ab 11 Uhr. Für passende Verpflegung ist durchgehend bestens gesorgt!
END:VEVENT
BEGIN:VEVENT
DTSTART:20241006T130000Z
DTEND:20241006T150000Z
DTSTAMP:20241006T130000Z
UID:7537519-7530189-1728165600000
SUMMARY:Von Zähringern\, Zünften und Zerstörungen.
LOCATION:Neuenburg am Rhein
DESCRIPTION:Um 1175 durch Herzog Berthold IV. von Zähringen gegründet stieg die Stadt dank ihrer günstigen Lage am Rhein rasch zu einem regionalen Zentrum des Handels und der Politik auf. Wiederkehrende Hochwasser und die Kriege der Neuzeit hinterließen Spuren der Zerstörung. Historische Urkunden\, archäologische Funde und Gemälde im Museum lassen die wechselvolle Geschichte der Stadt aufleben. Die anschließende Stadtführung zeigt wichtige Schauplätze der Geschichte auf. \n \nTreffpunkt: Museum für Stadtgeschichte\, Franziskanerplatz 4\nBeginn: 15.00 Uhr\nDie Führung ist kostenlos.\nUm Anmeldung wird gebeten. Kurzentschlossene sind willkommen.\nAnmeldung zu Führungen über Online-Formular unter www.neuenburg-touristik.de/stadtführung-anmeldung \nDie Führungen finden unabhängig von der Teilnehmerzahl statt.
CLASS:PUBLIC
X-ALT-DESC;FMTTYPE=text/html:Um 1175 durch Herzog Berthold IV. von Zähringen gegründet stieg die Stadt dank ihrer günstigen Lage am Rhein rasch zu einem regionalen Zentrum des Handels und der Politik auf. Wiederkehrende Hochwasser und die Kriege der Neuzeit hinterließen Spuren der Zerstörung. Historische Urkunden\, archäologische Funde und Gemälde im Museum lassen die wechselvolle Geschichte der Stadt aufleben. Die anschließende Stadtführung zeigt wichtige Schauplätze der Geschichte auf. <br> <br>Treffpunkt: Museum für Stadtgeschichte\, Franziskanerplatz 4<br>Beginn: 15.00 Uhr<br>Die Führung ist kostenlos.<br>Um Anmeldung wird gebeten. Kurzentschlossene sind willkommen.<br>Anmeldung zu Führungen über Online-Formular unter www.neuenburg-touristik.de/stadtführung-anmeldung <br>Die Führungen finden unabhängig von der Teilnehmerzahl statt.
END:VEVENT
BEGIN:VEVENT
DTSTART:20241007T080000Z
DTEND:20241007T100000Z
DTSTAMP:20241007T080000Z
UID:7526320-7514746-1728252000000
SUMMARY:KIKU
LOCATION:Neuenburg am Rhein
DESCRIPTION:"Kaspar und Bello retten den Wald" - ein Figurentheaterstück der Freiburger Puppenbühne.\nGeschlossene Veranstaltung für angemeldete Einrichtungen
CLASS:PUBLIC
X-ALT-DESC;FMTTYPE=text/html:"Kaspar und Bello retten den Wald" - ein Figurentheaterstück der Freiburger Puppenbühne.<br>Geschlossene Veranstaltung für angemeldete Einrichtungen
END:VEVENT
BEGIN:VEVENT
DTSTART:20241010T080000Z
DTEND:20241010T100000Z
DTSTAMP:20241010T080000Z
UID:7526321-7514747-1728511200000
SUMMARY:KIKU
LOCATION:Neuenburg am Rhein
DESCRIPTION:Geschlossene Veranstaltung für angemeldete Einrichtungen
CLASS:PUBLIC
X-ALT-DESC;FMTTYPE=text/html:Geschlossene Veranstaltung für angemeldete Einrichtungen
END:VEVENT
BEGIN:VEVENT
DTSTART:20241010T130000Z
DTEND:20241010T133000Z
DTSTAMP:20241010T130000Z
UID:7467222-7467119-1728511200000
SUMMARY:Vorlesezeit in der Stadtbibliothek
LOCATION:Neuenburg am Rhein
DESCRIPTION:Beim Waldspaziergang fällt dem Bären ein Ei vor die Füße\, aus dem eine winzig kleine Nachtigall schlüpft\, die ihn für ihre Mama hält. Notgedrungen kümmert sich der Bär um das hilflose Vögelchen und die beiden verbringen einen wunderbaren Sommer. … Wenn du mehr von Freundschaft und Zusammenhalt hören magst\, komm gerne zur Vorlesezeit in unsere Kinderbibliothek - es gibt das Bilderbuch "Zu zweit sind wir niemals allein" von Michael Engler.\nFür Kinder ab 4 Jahren. Der Eintritt ist wie immer kostenlos. Bei Gruppen wird um Voranmeldung gebeten.Weitere Informationen gibt es in der Stadtbibliothek.
CLASS:PUBLIC
X-ALT-DESC;FMTTYPE=text/html:Beim Waldspaziergang fällt dem Bären ein Ei vor die Füße\, aus dem eine winzig kleine Nachtigall schlüpft\, die ihn für ihre Mama hält. Notgedrungen kümmert sich der Bär um das hilflose Vögelchen und die beiden verbringen einen wunderbaren Sommer. &hellip; Wenn du mehr von Freundschaft und Zusammenhalt hören magst\, komm gerne zur Vorlesezeit in unsere Kinderbibliothek - es gibt das Bilderbuch "Zu zweit sind wir niemals allein" von Michael Engler.<br>Für Kinder ab 4 Jahren. Der Eintritt ist wie immer kostenlos. Bei Gruppen wird um Voranmeldung gebeten.Weitere Informationen gibt es in der Stadtbibliothek.
END:VEVENT
BEGIN:VEVENT
DTSTART:20241012T150000Z
DTEND:20241012T210000Z
DTSTAMP:20241012T150000Z
UID:7541929-7541824-1728684000000
SUMMARY:Feuerwehrhock der Freiwilligen Feuerwehr Neuenburg am Rhein
LOCATION:Neuenburg am Rhein
DESCRIPTION:Feuerwehr Neuenburg am Rhein lädt zum Feuerwehrhock am 12. & 13. Oktober einNeuenburg am Rhein – Die Feuerwehr Neuenburg am Rhein freut sich\, am Wochenende des 12. und 13. Oktober alle Interessierten zu ihrem Feuerwehrhock am Neuenburger Gerätehaus einzuladen. Neben einem abwechslungsreichen Programm für die ganze Familie steht die Präsentation der beiden neuen Fahrzeuge –des Löschgruppenfahrzeugs LF 20 und des Mannschaftstransportwagens (MTW) – im Mittelpunkt der Veranstaltung.Der Feuerwehrhock beginnt am Samstag\, den 12. Oktober\, um 17:00 Uhr. Freuen Sie sich auf einen gemütlichen Abend mit Wein- und Bierbrunnen\, einer Auswahl an leckeren Speisen und musikalischer Unterhaltung.Am Sonntag\, den 13. Oktober\, startet ab 11:00 Uhr der Familientag. Besucherinnen und Besucher erwartet eine spannende Fahrzeugschau\, ein umfangreiches Kinderprogramm mit Hüpfburg\, vielfältige Verpflegungsmöglichkeiten sowie musikalische Begleitung durch den Spielmannszug der Feuerwehr und die Orchestergemeinschaft Neuenburg Zienken.Die Feuerwehr Neuenburg am Rhein freut sich darauf\, gemeinsam mit Ihnen ein schönes Festwochenende zu verbringen.
CLASS:PUBLIC
X-ALT-DESC;FMTTYPE=text/html:Feuerwehr Neuenburg am Rhein lädt zum Feuerwehrhock am 12. & 13. Oktober einNeuenburg am Rhein &ndash; Die Feuerwehr Neuenburg am Rhein freut sich\, am Wochenende des 12. und 13. Oktober alle Interessierten zu ihrem Feuerwehrhock am Neuenburger Gerätehaus einzuladen. Neben einem abwechslungsreichen Programm für die ganze Familie steht die Präsentation der beiden neuen Fahrzeuge &ndash;des Löschgruppenfahrzeugs LF 20 und des Mannschaftstransportwagens (MTW) &ndash; im Mittelpunkt der Veranstaltung.Der Feuerwehrhock beginnt am Samstag\, den 12. Oktober\, um 17:00 Uhr. Freuen Sie sich auf einen gemütlichen Abend mit Wein- und Bierbrunnen\, einer Auswahl an leckeren Speisen und musikalischer Unterhaltung.Am Sonntag\, den 13. Oktober\, startet ab 11:00 Uhr der Familientag. Besucherinnen und Besucher erwartet eine spannende Fahrzeugschau\, ein umfangreiches Kinderprogramm mit Hüpfburg\, vielfältige Verpflegungsmöglichkeiten sowie musikalische Begleitung durch den Spielmannszug der Feuerwehr und die Orchestergemeinschaft Neuenburg Zienken.Die Feuerwehr Neuenburg am Rhein freut sich darauf\, gemeinsam mit Ihnen ein schönes Festwochenende zu verbringen.
END:VEVENT
BEGIN:VEVENT
DTSTART:20241013T090000Z
DTEND:20241013T110000Z
DTSTAMP:20241013T090000Z
UID:7541928-7541824-1728770400000
SUMMARY:Feuerwehrhock der Freiwilligen Feuerwehr Neuenburg am Rhein
LOCATION:Neuenburg am Rhein
DESCRIPTION:Feuerwehr Neuenburg am Rhein lädt zum Feuerwehrhock am 12. & 13. Oktober einNeuenburg am Rhein – Die Feuerwehr Neuenburg am Rhein freut sich\, am Wochenende des 12. und 13. Oktober alle Interessierten zu ihrem Feuerwehrhock am Neuenburger Gerätehaus einzuladen. Neben einem abwechslungsreichen Programm für die ganze Familie steht die Präsentation der beiden neuen Fahrzeuge –des Löschgruppenfahrzeugs LF 20 und des Mannschaftstransportwagens (MTW) – im Mittelpunkt der Veranstaltung.Der Feuerwehrhock beginnt am Samstag\, den 12. Oktober\, um 17:00 Uhr. Freuen Sie sich auf einen gemütlichen Abend mit Wein- und Bierbrunnen\, einer Auswahl an leckeren Speisen und musikalischer Unterhaltung.Am Sonntag\, den 13. Oktober\, startet ab 11:00 Uhr der Familientag. Besucherinnen und Besucher erwartet eine spannende Fahrzeugschau\, ein umfangreiches Kinderprogramm mit Hüpfburg\, vielfältige Verpflegungsmöglichkeiten sowie musikalische Begleitung durch den Spielmannszug der Feuerwehr und die Orchestergemeinschaft Neuenburg Zienken.Die Feuerwehr Neuenburg am Rhein freut sich darauf\, gemeinsam mit Ihnen ein schönes Festwochenende zu verbringen.
CLASS:PUBLIC
X-ALT-DESC;FMTTYPE=text/html:Feuerwehr Neuenburg am Rhein lädt zum Feuerwehrhock am 12. & 13. Oktober einNeuenburg am Rhein &ndash; Die Feuerwehr Neuenburg am Rhein freut sich\, am Wochenende des 12. und 13. Oktober alle Interessierten zu ihrem Feuerwehrhock am Neuenburger Gerätehaus einzuladen. Neben einem abwechslungsreichen Programm für die ganze Familie steht die Präsentation der beiden neuen Fahrzeuge &ndash;des Löschgruppenfahrzeugs LF 20 und des Mannschaftstransportwagens (MTW) &ndash; im Mittelpunkt der Veranstaltung.Der Feuerwehrhock beginnt am Samstag\, den 12. Oktober\, um 17:00 Uhr. Freuen Sie sich auf einen gemütlichen Abend mit Wein- und Bierbrunnen\, einer Auswahl an leckeren Speisen und musikalischer Unterhaltung.Am Sonntag\, den 13. Oktober\, startet ab 11:00 Uhr der Familientag. Besucherinnen und Besucher erwartet eine spannende Fahrzeugschau\, ein umfangreiches Kinderprogramm mit Hüpfburg\, vielfältige Verpflegungsmöglichkeiten sowie musikalische Begleitung durch den Spielmannszug der Feuerwehr und die Orchestergemeinschaft Neuenburg Zienken.Die Feuerwehr Neuenburg am Rhein freut sich darauf\, gemeinsam mit Ihnen ein schönes Festwochenende zu verbringen.
END:VEVENT
BEGIN:VEVENT
DTSTART:20241016T080000Z
DTEND:20241016T100000Z
DTSTAMP:20241016T080000Z
UID:7526322-7514748-1729029600000
SUMMARY:KIKU
LOCATION:Neuenburg am Rhein
DESCRIPTION:Geschlossene Veranstaltung für angemeldete Einrichtungen
CLASS:PUBLIC
X-ALT-DESC;FMTTYPE=text/html:Geschlossene Veranstaltung für angemeldete Einrichtungen
END:VEVENT
BEGIN:VEVENT
DTSTART:20241016T130000Z
DTEND:20241016T150000Z
DTSTAMP:20241016T130000Z
UID:7444103-7427092-1729029600000
SUMMARY:Offene Kreativ-Werkstatt
LOCATION:Neuenburg am Rhein
DESCRIPTION:Gemeinsam gestalten wir kleine Kunstwerke mit Farben und Schablonen.
Im Kreativraum im UG des Bildungshauses Bonifacius Amerbach.
CLASS:PUBLIC
X-ALT-DESC;FMTTYPE=text/html:Gemeinsam gestalten wir kleine Kunstwerke mit Farben und Schablonen.<br>Im Kreativraum im UG des Bildungshauses Bonifacius Amerbach.
END:VEVENT
BEGIN:VEVENT
DTSTART:20241017T130000Z
DTEND:20241017T144500Z
DTSTAMP:20241017T130000Z
UID:7537503-7530178-1729116000000
SUMMARY:Treffpunkt Digital
LOCATION:Neuenburg am Rhein
DESCRIPTION:Ab Oktober 2024 veranstaltet das Team der Seniorenarbeit im DRK-Kreisverband Müllheim e.V. in Zusammenarbeit mit der Stadtbibliothek Neuenburg einen „Treffpunkt Digital“. Hierbei erhalten interessierte Senior*innen von ehrenamtlichen Digitallotsen Unterstützung und Anleitung bei der Nutzung von Smartphone\, Tablet oder Laptop. Die Organisatoren setzen dabei auf ein Konzept mit einer 1-zu-1-Betreuung mit jeweils einer „Sprechstunde“ von 45 Minuten je Teilnehmer. Pro Nachmittag werden zwei Zeitfenster angeboten (15.00 Uhr bis 15.45 Uhr und 16.00 Uhr bis 16.45 Uhr). Das Angebot ist kostenlos.\nDer „Treffpunkt Digital“ findet in der Regel immer 14-tägig am Donnerstagnachmittag in der Stadtbibliothek in Neuenburg statt. Endgeräte bitte mitbringen. Start ist am 17. Oktober.\nUm eine Anmeldung über die Stadtbibliothek Neuenburg\, Telefon 07631/73747\, oder via E-Mail an stadtbibliothek@neuenburg.de\, wird ausdrücklich gebeten. Alternativ ist eine Anmeldung über die Servicezentrale des DRK-Kreisverbandes\, Tel. 07631/1805-0\, oder via E-Mail an servicestelle@drk-muellheim.de\, möglich.\nFolgende Termine sind vorgesehen: 17.10.\, 31.10.\, 14.11.\, 28.11.\, 12.12. und 09.01.\, 23.01.\, 06.02.\, 20.02.\nVeranstaltungsort:Stadtbibliothek NeuenburgBildungshaus Bonifacius AmerbachObergeschossAm Stadtgraben 179395 Neuenburg am Rhein
CLASS:PUBLIC
X-ALT-DESC;FMTTYPE=text/html:Ab Oktober 2024 veranstaltet das Team der Seniorenarbeit im DRK-Kreisverband Müllheim e.V. in Zusammenarbeit mit der Stadtbibliothek Neuenburg einen &bdquo;Treffpunkt Digital&ldquo;. Hierbei erhalten interessierte Senior*innen von ehrenamtlichen Digitallotsen Unterstützung und Anleitung bei der Nutzung von Smartphone\, Tablet oder Laptop. Die Organisatoren setzen dabei auf ein Konzept mit einer 1-zu-1-Betreuung mit jeweils einer &bdquo;Sprechstunde&ldquo; von 45 Minuten je Teilnehmer. Pro Nachmittag werden zwei Zeitfenster angeboten (15.00 Uhr bis 15.45 Uhr und 16.00 Uhr bis 16.45 Uhr). Das Angebot ist kostenlos.<br>Der &bdquo;Treffpunkt Digital&ldquo; findet in der Regel immer 14-tägig am Donnerstagnachmittag in der Stadtbibliothek in Neuenburg statt. Endgeräte bitte mitbringen. Start ist am 17. Oktober.<br>Um eine Anmeldung über die Stadtbibliothek Neuenburg\, Telefon 07631/73747\, oder via E-Mail an stadtbibliothek@neuenburg.de\, wird ausdrücklich gebeten. Alternativ ist eine Anmeldung über die Servicezentrale des DRK-Kreisverbandes\, Tel. 07631/1805-0\, oder via E-Mail an servicestelle@drk-muellheim.de\, möglich.<br>Folgende Termine sind vorgesehen: 17.10.\, 31.10.\, 14.11.\, 28.11.\, 12.12. und 09.01.\, 23.01.\, 06.02.\, 20.02.<br>Veranstaltungsort:Stadtbibliothek NeuenburgBildungshaus Bonifacius AmerbachObergeschossAm Stadtgraben 179395 Neuenburg am Rhein
END:VEVENT
BEGIN:VEVENT
DTSTART:20241023T173000Z
DTEND:20241023T193000Z
DTSTAMP:20241023T173000Z
UID:7526308-7413953-1729634400000
SUMMARY:KULTURzeit
LOCATION:Neuenburg am Rhein
DESCRIPTION:Lena Sayer und Selina Proschke fragen nach den vier Elementen an der heutigen Gesellschaft: Was bewegt uns?\nEin modernes\, zeitgenössisches Tanzstück in zwei Akten\, welches zum Nachdenken anregt.\nKarten in Höhe von 15 € inklusive kleiner Bewirtung sind im Vorverkauf im Büro der VHS (EC-Zahlung) und in der Tourist-Information (Barverkauf) ab dem 19.09.24 erhältlich.\nFoto: Sven Ketz
CLASS:PUBLIC
X-ALT-DESC;FMTTYPE=text/html:Lena Sayer und Selina Proschke fragen nach den vier Elementen an der heutigen Gesellschaft: Was bewegt uns?<br>Ein modernes\, zeitgenössisches Tanzstück in zwei Akten\, welches zum Nachdenken anregt.<br>Karten in Höhe von 15 &euro; inklusive kleiner Bewirtung sind im Vorverkauf im Büro der VHS (EC-Zahlung) und in der Tourist-Information (Barverkauf) ab dem 19.09.24 erhältlich.<br>Foto: Sven Ketz
END:VEVENT
BEGIN:VEVENT
DTSTART:20241024T080000Z
DTEND:20241024T100000Z
DTSTAMP:20241024T080000Z
UID:7526323-7514749-1729720800000
SUMMARY:KIKU
LOCATION:Neuenburg am Rhein
DESCRIPTION:Geschlossene Veranstaltung für angemeldete Einrichtungen
CLASS:PUBLIC
X-ALT-DESC;FMTTYPE=text/html:Geschlossene Veranstaltung für angemeldete Einrichtungen
END:VEVENT
BEGIN:VEVENT
DTSTART:20241025T140000Z
DTEND:20241025T143000Z
DTSTAMP:20241025T140000Z
UID:7526301-7514732-1729807200000
SUMMARY:Kamishibai in der Stadtbibliothek
LOCATION:Neuenburg am Rhein
DESCRIPTION:Ab Oktober wird in der Stadtbibliothek Neuenburg monatlich ein Kamishibai-Theater für 6 bis 9-jährige Kinder geboten. Kamishibai ist eine bildgestützte Form des Erzählens\, die ihren Ursprung in Japan hat. Herr Reimund Kipar\, ehrenamtlicher Unterstützer der Stadtbibliothek\, hat in liebevoller Handarbeit einen Kamishibai-Theaterrahmen gebaut und wird damit immer am 4. Freitagnachmittag im Monat in der Kinderbibliothek eine von ihm gewählte Geschichte darbieten.\nDie erste Vorstellung findet statt am Freitag\, den 25.10.24 von 16:00 bis ca. 16:30 Uhr.Erzählt wird das Buch „Die kleine Hexe – Ausflug mit Abraxas“ von Ottfried Preußler. Der Eintritt ist kostenlos.\nWeitere Informationen bei:Stadtbibliothek NeuenburgBildungshaus Bonifacius AmerbachAm Stadtgraben 179395 Neuenburg am RheinTel. 07631 – 73747Mail: stadtbibliothek@neuenburg.de
CLASS:PUBLIC
X-ALT-DESC;FMTTYPE=text/html:Ab Oktober wird in der Stadtbibliothek Neuenburg monatlich ein Kamishibai-Theater für 6 bis 9-jährige Kinder geboten. Kamishibai ist eine bildgestützte Form des Erzählens\, die ihren Ursprung in Japan hat. Herr Reimund Kipar\, ehrenamtlicher Unterstützer der Stadtbibliothek\, hat in liebevoller Handarbeit einen Kamishibai-Theaterrahmen gebaut und wird damit immer am 4. Freitagnachmittag im Monat in der Kinderbibliothek eine von ihm gewählte Geschichte darbieten.<br>Die erste Vorstellung findet statt am Freitag\, den 25.10.24 von 16:00 bis ca. 16:30 Uhr.Erzählt wird das Buch &bdquo;Die kleine Hexe &ndash; Ausflug mit Abraxas&ldquo; von Ottfried Preußler. Der Eintritt ist kostenlos.<br>Weitere Informationen bei:Stadtbibliothek NeuenburgBildungshaus Bonifacius AmerbachAm Stadtgraben 179395 Neuenburg am RheinTel. 07631 &ndash; 73747Mail: stadtbibliothek@neuenburg.de
END:VEVENT
BEGIN:VEVENT
DTSTART:20241027T140000Z
DTEND:20241027T160000Z
DTSTAMP:20241027T140000Z
UID:5581860-5581909-1729980000000
SUMMARY:Der Rhein - Ein Fluß prägt die Stadt
LOCATION:Neuenburg am Rhein
DESCRIPTION:Das Leben in Neuenburg ist seit jeher von der unmittelbaren Nähe zum Rhein geprägt. Ob als Transportweg und Handelsstraße\, ob als Nahrungs- und Energielieferant\, ob als Grenzfluss oder verbindendes Element einer ganzen Region – im Rahmen der Führung werden der Rhein und seine Einflüsse auf Neuenburg im Fokus stehen. \nZum einen wird der Rhein als natürlicher Fluss mit seinen Lebensräumen und mit seiner Dynamik\, mit Niedrigwasser und Hochwasser und den daraus resultierenden Gefährdungen thematisiert. Zum anderen wird die Umgestaltung durch den Menschen und die damit entstehenden Nutzungsmöglichkeiten während des Museumsrundgangs aufgegriffen genauso wie seine Rolle als Grenzfluss im europäischen Machtgefüge.\n \nBeginn: 15.00 Uhr\nDauer: ca. 45 Minuten.\nOrt: Museum für Stadtgeschichte\, Franziskanerplatz 4\nEine Anmeldung ist nicht erforderlich.\nDie Führung ist kostenlos\, der Museumseintritt beträgt 2\,- Euro.
CLASS:PUBLIC
X-ALT-DESC;FMTTYPE=text/html:Das Leben in Neuenburg ist seit jeher von der unmittelbaren Nähe zum Rhein geprägt. Ob als Transportweg und Handelsstraße\, ob als Nahrungs- und Energielieferant\, ob als Grenzfluss oder verbindendes Element einer ganzen Region &ndash; im Rahmen der Führung werden der Rhein und seine Einflüsse auf Neuenburg im Fokus stehen. <br>Zum einen wird der Rhein als natürlicher Fluss mit seinen Lebensräumen und mit seiner Dynamik\, mit Niedrigwasser und Hochwasser und den daraus resultierenden Gefährdungen thematisiert. Zum anderen wird die Umgestaltung durch den Menschen und die damit entstehenden Nutzungsmöglichkeiten während des Museumsrundgangs aufgegriffen genauso wie seine Rolle als Grenzfluss im europäischen Machtgefüge.<br> <br>Beginn: 15.00 Uhr<br>Dauer: ca. 45 Minuten.<br>Ort: Museum für Stadtgeschichte\, Franziskanerplatz 4<br>Eine Anmeldung ist nicht erforderlich.<br>Die Führung ist kostenlos\, der Museumseintritt beträgt 2\,- Euro.
END:VEVENT
BEGIN:VEVENT
DTSTART:20241031T140000Z
DTEND:20241031T154500Z
DTSTAMP:20241031T140000Z
UID:7537504-7530179-1730329200000
SUMMARY:Treffpunkt Digital
LOCATION:Neuenburg am Rhein
DESCRIPTION:Das Team der Seniorenarbeit im DRK-Kreisverband Müllheim e.V. veranstaltet in Zusammenarbeit mit der Stadtbibliothek Neuenburg einen „Treffpunkt Digital“. Hierbei erhalten interessierte Senior*innen von ehrenamtlichen Digitallotsen Unterstützung und Anleitung bei der Nutzung von Smartphone\, Tablet oder Laptop. Die Organisatoren setzen dabei auf ein Konzept mit einer 1-zu-1-Betreuung mit jeweils einer „Sprechstunde“ von 45 Minuten je Teilnehmer. Pro Nachmittag werden zwei Zeitfenster angeboten (15.00 Uhr bis 15.45 Uhr und 16.00 Uhr bis 16.45 Uhr). Das Angebot ist kostenlos.\nDer „Treffpunkt Digital“ findet in der Regel immer 14-tägig am Donnerstagnachmittag in der Stadtbibliothek in Neuenburg statt. Endgeräte bitte mitbringen.\nUm eine Anmeldung über die Stadtbibliothek Neuenburg\, Telefon 07631/73747\, oder via E-Mail an stadtbibliothek@neuenburg.de\, wird ausdrücklich gebeten. Alternativ ist eine Anmeldung über die Servicezentrale des DRK-Kreisverbandes\, Tel. 07631/1805-0\, oder via E-Mail an servicestelle@drk-muellheim.de\, möglich.\nFolgende Termine sind vorgesehen: 31.10.\, 14.11.\, 28.11.\, 12.12. und 09.01.\, 23.01.\, 06.02.\, 20.02.\nVeranstaltungsort:Stadtbibliothek NeuenburgBildungshaus Bonifacius AmerbachObergeschossAm Stadtgraben 179395 Neuenburg am Rhein
CLASS:PUBLIC
X-ALT-DESC;FMTTYPE=text/html:Das Team der Seniorenarbeit im DRK-Kreisverband Müllheim e.V. veranstaltet in Zusammenarbeit mit der Stadtbibliothek Neuenburg einen &bdquo;Treffpunkt Digital&ldquo;. Hierbei erhalten interessierte Senior*innen von ehrenamtlichen Digitallotsen Unterstützung und Anleitung bei der Nutzung von Smartphone\, Tablet oder Laptop. Die Organisatoren setzen dabei auf ein Konzept mit einer 1-zu-1-Betreuung mit jeweils einer &bdquo;Sprechstunde&ldquo; von 45 Minuten je Teilnehmer. Pro Nachmittag werden zwei Zeitfenster angeboten (15.00 Uhr bis 15.45 Uhr und 16.00 Uhr bis 16.45 Uhr). Das Angebot ist kostenlos.<br>Der &bdquo;Treffpunkt Digital&ldquo; findet in der Regel immer 14-tägig am Donnerstagnachmittag in der Stadtbibliothek in Neuenburg statt. Endgeräte bitte mitbringen.<br>Um eine Anmeldung über die Stadtbibliothek Neuenburg\, Telefon 07631/73747\, oder via E-Mail an stadtbibliothek@neuenburg.de\, wird ausdrücklich gebeten. Alternativ ist eine Anmeldung über die Servicezentrale des DRK-Kreisverbandes\, Tel. 07631/1805-0\, oder via E-Mail an servicestelle@drk-muellheim.de\, möglich.<br>Folgende Termine sind vorgesehen: 31.10.\, 14.11.\, 28.11.\, 12.12. und 09.01.\, 23.01.\, 06.02.\, 20.02.<br>Veranstaltungsort:Stadtbibliothek NeuenburgBildungshaus Bonifacius AmerbachObergeschossAm Stadtgraben 179395 Neuenburg am Rhein
END:VEVENT
END:VCALENDAR
