BEGIN:VCALENDAR
PRODID:-//dvv-bw.de//dvv.Portalplattform//DE
VERSION:2.0
METHOD:PUBLISH
BEGIN:VEVENT
DTSTART:20261202T140000Z
DTEND:20261202T170000Z
DTSTAMP:20260421T163153Z
UID:8888318-8888218-1796166000000
SUMMARY:MaschenTreff in der Stadtbibliothek
LOCATION:Neuenburg am Rhein
DESCRIPTION:Wer hat Lust zum gemeinsamen Handarbeiten? Gemütlich werkelnd beieinandersitzen\, Ideen austauschen\, Fragen stellen und Lösungen präsentieren? Einfach das Strickzeug oder die Häkelnadeln einpacken und zusammen loslegen.Die offene Runde trifft sich zwanglos immer am 1. Mittwoch im Monat von 15 bis 18 Uhr im Obergeschoss der Stadtbibliothek.\nWeitere Informationen bei:Stadtbibliothek NeuenburgBildungshaus Bonifacius AmerbachAm Stadtgraben 179395 Neuenburg am RheinTel. 07631 – 73747Mail: stadtbibliothek@neuenburg.de
CLASS:PUBLIC
X-ALT-DESC;FMTTYPE=text/html:Wer hat Lust zum gemeinsamen Handarbeiten? Gemütlich werkelnd beieinandersitzen\, Ideen austauschen\, Fragen stellen und Lösungen präsentieren? Einfach das Strickzeug oder die Häkelnadeln einpacken und zusammen loslegen.Die offene Runde trifft sich zwanglos immer am 1. Mittwoch im Monat von 15 bis 18 Uhr im Obergeschoss der Stadtbibliothek.<br>Weitere Informationen bei:Stadtbibliothek NeuenburgBildungshaus Bonifacius AmerbachAm Stadtgraben 179395 Neuenburg am RheinTel. 07631 &ndash; 73747Mail: stadtbibliothek@neuenburg.de
END:VEVENT
END:VCALENDAR
