BEGIN:VCALENDAR
PRODID:-//dvv-bw.de//dvv.Portalplattform//DE
VERSION:2.0
METHOD:PUBLISH
BEGIN:VEVENT
DTSTART:20260929T130000Z
DTEND:20260929T150000Z
DTSTAMP:20260422T074101Z
UID:8888319-8888219-1790632800000
SUMMARY:Morsbags in der Stadtbibliothek
LOCATION:Neuenburg am Rhein
DESCRIPTION:Kreativ und nachhaltig: Am Dienstag\, den 29. September 2026\, von 15.00 bis 17.00 Uhr kommt zum wiederholten Male die Gruppe „NeuenburgNäht“ in die Stadtbibliothek\, um dort Morsbags zu nähen und das Projekt vorzustellen.Morsbags sind wiederverwendbare\, waschbare\, recycelte und stabile Stofftaschen. Sie werden weltweit mit viel Liebe aus Stoffresten oder gebrauchten Textilien genäht und anschließend verschenkt. Sie sind umweltfreundlich\, da sie Plastiktüten ersetzen und helfen Textilmüll zu vermeiden.Besucher der Stadtbibliothek erhalten an diesem Nachmittag einen Einblick in die Herstellung der Taschen. Die genähten Morsbags werden an Interessierte verschenkt\, so lange der Vorrat reicht. Somit können ausgeliehene Medien der Stadtbibliothek gleich umweltbewusst nach Hause transportiert werden.Wer sich aktiv beteiligen und selbst mitnähen möchte\, bringt bitte eine eigene Nähmaschine mit. Um Voranmeldung in der Stadtbibliothek wird in diesem Fall gebeten.Wer regelmäßig am Projekt teilnehmen möchte\, hat die Möglichkeit\, sich vor Ort bei der Gruppe „NeuenburgNäht“ anzumelden.Informationen sowie eine Nähanleitung gibt es unter www.morsbags.comWeitere Informationen bei:Stadtbibliothek Neuenburg am RheinBildungshaus Bonifacius AmerbachAm Stadtgraben 179395 Neuenburg am RheinTel. +49 (0) 76 31 – 73 747stadtbibliothek@neuenburg.de
CLASS:PUBLIC
X-ALT-DESC;FMTTYPE=text/html:Kreativ und nachhaltig: Am Dienstag\, den 29. September 2026\, von 15.00 bis 17.00 Uhr kommt zum wiederholten Male die Gruppe &bdquo;NeuenburgNäht&ldquo; in die Stadtbibliothek\, um dort Morsbags zu nähen und das Projekt vorzustellen.Morsbags sind wiederverwendbare\, waschbare\, recycelte und stabile Stofftaschen. Sie werden weltweit mit viel Liebe aus Stoffresten oder gebrauchten Textilien genäht und anschließend verschenkt. Sie sind umweltfreundlich\, da sie Plastiktüten ersetzen und helfen Textilmüll zu vermeiden.Besucher der Stadtbibliothek erhalten an diesem Nachmittag einen Einblick in die Herstellung der Taschen. Die genähten Morsbags werden an Interessierte verschenkt\, so lange der Vorrat reicht. Somit können ausgeliehene Medien der Stadtbibliothek gleich umweltbewusst nach Hause transportiert werden.Wer sich aktiv beteiligen und selbst mitnähen möchte\, bringt bitte eine eigene Nähmaschine mit. Um Voranmeldung in der Stadtbibliothek wird in diesem Fall gebeten.Wer regelmäßig am Projekt teilnehmen möchte\, hat die Möglichkeit\, sich vor Ort bei der Gruppe &bdquo;NeuenburgNäht&ldquo; anzumelden.Informationen sowie eine Nähanleitung gibt es unter www.morsbags.comWeitere Informationen bei:Stadtbibliothek Neuenburg am RheinBildungshaus Bonifacius AmerbachAm Stadtgraben 179395 Neuenburg am RheinTel. +49 (0) 76 31 &ndash; 73 747stadtbibliothek@neuenburg.de
END:VEVENT
END:VCALENDAR
