BEGIN:VCALENDAR
PRODID:-//dvv-bw.de//dvv.Portalplattform//DE
VERSION:2.0
METHOD:PUBLISH
BEGIN:VEVENT
DTSTART:20260628T130000Z
DTEND:20260628T150000Z
DTSTAMP:20260421T013026Z
UID:8672959-8672853-1782597600000
SUMMARY:Stadt. Park. Rhein. Neuenburg geht zum Rhein
LOCATION:Neuenburg am Rhein
DESCRIPTION:Das Motto der Landesgartenschau ist der Weg zum Ziel: Stadt. und Rhein nach jahrhundertelanger Trennung wieder zu verbinden. Mit dem Zuschlag zur Landesgartenschau im Jahr 2010 beginnen zahlreiche Stadtentwicklungsmaßnahmen\, die einen dauerhaften Mehrwert an Erlebnis- und Naherholungsraum schaffen. Die Führung beleuchtet die historische und räumliche Entwicklung der Stadt vom Mittelalter bis heute\, mit einem Blick auf die neu gestaltete Ortsmitte\, den Münsterplatz\, den Bertholdturm sowie die beiden Parkteile am Wuhrloch und am Rhein. \nTreffpunkt: Museum für Stadtgeschichte\, Franziskanerplatz 4\nDie Führung endet in den Rheingärten. \n \nDie öffentliche Stadtführung ist kostenlos.\nUm Anmeldung wird gebeten. Kurzentschlossene sind willkommen.\nDie Führung findet unabhängig von der Teilnehmerzahl statt.\nAnmeldung ist über das Online-Formular auf www.neuenburg-touristik.de/fuehrung-anmeldung möglich. \n \nWeitere Informationen bei: \nMuseum für Stadtgeschichte\nTel. +49 (0)7631 791-284\nmuseum@neuenburg.de
CLASS:PUBLIC
X-ALT-DESC;FMTTYPE=text/html:Das Motto der Landesgartenschau ist der Weg zum Ziel: Stadt. und Rhein nach jahrhundertelanger Trennung wieder zu verbinden. Mit dem Zuschlag zur Landesgartenschau im Jahr 2010 beginnen zahlreiche Stadtentwicklungsmaßnahmen\, die einen dauerhaften Mehrwert an Erlebnis- und Naherholungsraum schaffen. Die Führung beleuchtet die historische und räumliche Entwicklung der Stadt vom Mittelalter bis heute\, mit einem Blick auf die neu gestaltete Ortsmitte\, den Münsterplatz\, den Bertholdturm sowie die beiden Parkteile am Wuhrloch und am Rhein. <br>Treffpunkt: Museum für Stadtgeschichte\, Franziskanerplatz 4<br>Die Führung endet in den Rheingärten. <br> <br>Die öffentliche Stadtführung ist kostenlos.<br>Um Anmeldung wird gebeten. Kurzentschlossene sind willkommen.<br>Die Führung findet unabhängig von der Teilnehmerzahl statt.<br>Anmeldung ist über das Online-Formular auf www.neuenburg-touristik.de/fuehrung-anmeldung möglich. <br> <br>Weitere Informationen bei: <br>Museum für Stadtgeschichte<br>Tel. +49 (0)7631 791-284<br>museum@neuenburg.de
END:VEVENT
END:VCALENDAR
